BEGIN:VCALENDAR
VERSION:2.0
PRODID:-//Plone.org//NONSGML plone.app.event//EN
X-WR-TIMEZONE:America/Sao_Paulo
BEGIN:VEVENT
SUMMARY:Taking Animal Ethics Seriously: An Introduction to Speciesism and 
 Wild Animal Suffering em [ Auditorio A102 do Cad 2]
DTSTART;TZID=America/Sao_Paulo;VALUE=DATE-TIME:20241216T090000
DTEND;TZID=America/Sao_Paulo;VALUE=DATE-TIME:20241216T120000
DTSTAMP;VALUE=DATE-TIME:20260419T163530Z
UID:e3c800791a764fc2bd520dbb0fb98109@150.164.76.86:8080
CREATED;VALUE=DATE-TIME:20241108T162937Z
DESCRIPTION:Palestra 'Taking Animal Ethics Seriously: An Introduction to S
 peciesism and Wild Animal Suffering' (Tentative) de professor estrangeiro
LAST-MODIFIED;VALUE=DATE-TIME:20241111T182319Z
URL:http://150.164.76.86:8080/cac/agenda/3521864517862588324
END:VEVENT
BEGIN:VTIMEZONE
TZID:America/Sao_Paulo
X-LIC-LOCATION:America/Sao_Paulo
BEGIN:DAYLIGHT
DTSTART;VALUE=DATE-TIME:20241020T010000
TZNAME:BRST
TZOFFSETFROM:-0300
TZOFFSETTO:-0200
END:DAYLIGHT
END:VTIMEZONE
END:VCALENDAR
