BEGIN:VCALENDAR
VERSION:2.0
PRODID:-//Plone.org//NONSGML plone.app.event//EN
X-WR-TIMEZONE:America/Sao_Paulo
BEGIN:VEVENT
SUMMARY:Concurso Letras Libras em [ Outros espacos Auditorio A104 do Cad 2
 ]
DTSTART;TZID=America/Sao_Paulo;VALUE=DATE-TIME:20230624T080000
DTEND;TZID=America/Sao_Paulo;VALUE=DATE-TIME:20230624T090000
DTSTAMP;VALUE=DATE-TIME:20260421T122058Z
UID:5795bdb2bcd840baac54bfbc1a640028@150.164.76.86:8080
CREATED;VALUE=DATE-TIME:20230602T151148Z
DESCRIPTION:<p>Concurso</p>
LAST-MODIFIED;VALUE=DATE-TIME:20230619T134443Z
URL:http://150.164.76.86:8080/cac/agenda/3521643812603541962
END:VEVENT
BEGIN:VTIMEZONE
TZID:America/Sao_Paulo
X-LIC-LOCATION:America/Sao_Paulo
BEGIN:STANDARD
DTSTART;VALUE=DATE-TIME:20230225T230000
TZNAME:BRT
TZOFFSETFROM:-0200
TZOFFSETTO:-0300
END:STANDARD
END:VTIMEZONE
END:VCALENDAR
