BEGIN:VCALENDAR
VERSION:2.0
PRODID:-//Plone.org//NONSGML plone.app.event//EN
X-WR-TIMEZONE:America/Sao_Paulo
BEGIN:VEVENT
SUMMARY:Jazz nas férias em [ Arena da praça de serviços]
DTSTART;TZID=America/Sao_Paulo;VALUE=DATE-TIME:20240201T183000
DTEND;TZID=America/Sao_Paulo;VALUE=DATE-TIME:20240207T200000
DTSTAMP;VALUE=DATE-TIME:20260420T062948Z
UID:e27eafe1285f41fe98f487eb2518e1dd@150.164.76.86:8080
CREATED;VALUE=DATE-TIME:20240116T210006Z
DESCRIPTION:Essa oficina tem o intuito de promover o encontro da comunidad
 e nas férias para prática de exercício físico e promoção da convivê
 ncia durante aulas de jazz. As aulas envolverão introdução rítmica\, c
 ontato com danças e cultura africana e o aprendizado de uma coreografia.\
 nProjeto contemplado pelo edital 2167/2023/PRAE-DAC-UFMG
LAST-MODIFIED;VALUE=DATE-TIME:20240201T132804Z
URL:http://150.164.76.86:8080/cac/agenda/3515891709856993177
END:VEVENT
BEGIN:VTIMEZONE
TZID:America/Sao_Paulo
X-LIC-LOCATION:America/Sao_Paulo
BEGIN:DAYLIGHT
DTSTART;VALUE=DATE-TIME:20231015T010000
TZNAME:BRST
TZOFFSETFROM:-0300
TZOFFSETTO:-0200
END:DAYLIGHT
END:VTIMEZONE
END:VCALENDAR
