BEGIN:VCALENDAR
VERSION:2.0
PRODID:-//Plone.org//NONSGML plone.app.event//EN
X-WR-TIMEZONE:America/Sao_Paulo
BEGIN:VEVENT
SUMMARY:CROS 2025 - 1st Brazilian Conference on Robotics em [ Outros espac
 os]
DTSTART;TZID=America/Sao_Paulo;VALUE=DATE-TIME:20250428T180000
DTEND;TZID=America/Sao_Paulo;VALUE=DATE-TIME:20250428T200000
DTSTAMP;VALUE=DATE-TIME:20260419T103331Z
UID:a65f57221a5846c09b447a89a574b5a1@150.164.76.86:8080
CREATED;VALUE=DATE-TIME:20250422T181448Z
DESCRIPTION:<p>CROS 2025 - 1st Brazilian Conference on Robotics</p>
LAST-MODIFIED;VALUE=DATE-TIME:20250422T181510Z
URL:http://150.164.76.86:8080/cac/agenda/3514109183920306990
END:VEVENT
BEGIN:VTIMEZONE
TZID:America/Sao_Paulo
X-LIC-LOCATION:America/Sao_Paulo
BEGIN:STANDARD
DTSTART;VALUE=DATE-TIME:20250215T230000
TZNAME:BRT
TZOFFSETFROM:-0200
TZOFFSETTO:-0300
END:STANDARD
END:VTIMEZONE
END:VCALENDAR
