BEGIN:VCALENDAR
VERSION:2.0
PRODID:-//Plone.org//NONSGML plone.app.event//EN
X-WR-TIMEZONE:America/Sao_Paulo
BEGIN:VEVENT
SUMMARY:I Encontro latino-americano de estudos pré-socráticos / IX Simp
 ósio Internacional de Estudos Antigos em [ Auditorio A104 do Cad 2 Outros
  espacos]
DTSTART;TZID=America/Sao_Paulo;VALUE=DATE-TIME:20231009T090000
DTEND;TZID=America/Sao_Paulo;VALUE=DATE-TIME:20231011T203000
DTSTAMP;VALUE=DATE-TIME:20260421T015730Z
UID:a0869a3bfafb4ab7af54405e8104bb14@150.164.76.86:8080
CREATED;VALUE=DATE-TIME:20230425T192419Z
DESCRIPTION:<p>O evento\, que contará com a presença de professores\, pe
 squisadores e estudantes vindos de diferentes regiões do Brasil e de outr
 os países da América Latina\, t em por objetivo proporcionar o encontro 
 e estreitar a colaboração entre pesquisadores que se dedicam a diferente
 s autores\, tradições\, temas e problemas da filosofia antiga e dos estu
 dos clássicos. Reuniremos\, nesta ocasião\, duas comunidades de pesquisa
 \, a saber: (1) aquela que reúne pesquisadores\, docentes e estudantes\, 
 que se ocupam do estudo do pensamento dos dois primeiros séculos da filos
 ofia antiga\, período esse denominado\, pela historiografia filosófica\,
  de “filosofia pré-socrática”\, com o intuito de compartilhar o stat
 us de suas pesquisas e de estreitar os laços de colaboração interinstit
 ucionais\, no que será o I Encontro Latino-Americano de Filosofia “Pré
 -Socrática”\; e\, (2) aquela mais ampla dos estudos antigos\, envolvend
 o diversas áreas dos estudos sobre a Antiguidade Grega e Romana\, compree
 ndendo filosofia antiga\, letras clássicas e história antiga\, no que se
 rá a oitava edição do Simpósio Internacional de Estudos Antigos\, even
 to promovido desde 2007 pelo grupo “Filosofia Antiga” - GFA e pela lin
 ha de pesquisa em Filosofia Antiga e Medieval do programa de Pós-Graduaç
 ão em Filosofia da UFMG. O exame dos temas e problemas de que se ocuparam
  os antigos nos diferentes registros literários que nos chegaram\, revela
  a subsistência e atualidade das questões que mobilizaram suas investiga
 ções\, especulações e reflexões. O evento contará com conferências\
 , mesas-redondas e sessões de comunicação\, distribuidas ao longo dos t
 rês dias\, entre 9h00 e 20h : 9 - 11 : Mesas-redondas 11 - 11:15 : interv
 alo 11:15 - 12:30 : Conferências 12:30 - 14:00 : Almoço 14 - 16 : Comuni
 cações 16 - 16:15 : Intervalo 16:15 - 18:15 : Comunicações 18:15 - 18:
 30 = Intervalo 18:30 - 20:00 : Mesa-redonda Equipamentos necessários: mic
 rofones (2) e projetor de datashow. P.S. Providenciaremos o técnico para 
 operar os equipamentos de som e imagem.</p>
LAST-MODIFIED;VALUE=DATE-TIME:20231003T131616Z
URL:http://150.164.76.86:8080/cac/agenda/3494188644974870370
END:VEVENT
BEGIN:VTIMEZONE
TZID:America/Sao_Paulo
X-LIC-LOCATION:America/Sao_Paulo
BEGIN:STANDARD
DTSTART;VALUE=DATE-TIME:20230225T230000
TZNAME:BRT
TZOFFSETFROM:-0200
TZOFFSETTO:-0300
END:STANDARD
END:VTIMEZONE
END:VCALENDAR
