BEGIN:VCALENDAR
VERSION:2.0
PRODID:-//Plone.org//NONSGML plone.app.event//EN
X-WR-TIMEZONE:America/Sao_Paulo
BEGIN:VEVENT
SUMMARY:coffee break NAI em [ Outros espacos]
DTSTART;TZID=America/Sao_Paulo;VALUE=DATE-TIME:20230714T150000
DTEND;TZID=America/Sao_Paulo;VALUE=DATE-TIME:20230714T190000
DTSTAMP;VALUE=DATE-TIME:20260421T104229Z
UID:d8491939b2484845bfc062146bf537d6@150.164.76.86:8080
CREATED;VALUE=DATE-TIME:20230704T172905Z
DESCRIPTION:<h3 class="LC20lb MBeuO DKV0Md">NAI – UFMG – Núcleo de Ac
 essibilidade e Inclusão da UFMG solicitou reserva do espaço do café par
 a uma reunião de equipe </h3>
LAST-MODIFIED;VALUE=DATE-TIME:20230704T173056Z
URL:http://150.164.76.86:8080/cac/agenda/3470787220125782548
END:VEVENT
BEGIN:VTIMEZONE
TZID:America/Sao_Paulo
X-LIC-LOCATION:America/Sao_Paulo
BEGIN:STANDARD
DTSTART;VALUE=DATE-TIME:20230225T230000
TZNAME:BRT
TZOFFSETFROM:-0200
TZOFFSETTO:-0300
END:STANDARD
END:VTIMEZONE
END:VCALENDAR
