BEGIN:VCALENDAR
VERSION:2.0
PRODID:-//Plone.org//NONSGML plone.app.event//EN
X-WR-TIMEZONE:America/Sao_Paulo
BEGIN:VEVENT
SUMMARY:Evento Secretaria de Estado da Saúde em [ Auditorio da Reitoria]
DTSTART;TZID=America/Sao_Paulo;VALUE=DATE-TIME:20241211T080000
DTEND;TZID=America/Sao_Paulo;VALUE=DATE-TIME:20241211T200000
DTSTAMP;VALUE=DATE-TIME:20260419T163633Z
UID:a9b417396eb74e818dcc429e85d9b633@150.164.76.86:8080
CREATED;VALUE=DATE-TIME:20241202T153131Z
DESCRIPTION:<p>evento da secretaria de estado de saúde </p>
LAST-MODIFIED;VALUE=DATE-TIME:20241210T145031Z
URL:http://150.164.76.86:8080/cac/agenda/3460361769663808899
END:VEVENT
BEGIN:VTIMEZONE
TZID:America/Sao_Paulo
X-LIC-LOCATION:America/Sao_Paulo
BEGIN:DAYLIGHT
DTSTART;VALUE=DATE-TIME:20241020T010000
TZNAME:BRST
TZOFFSETFROM:-0300
TZOFFSETTO:-0200
END:DAYLIGHT
END:VTIMEZONE
END:VCALENDAR
