BEGIN:VCALENDAR
VERSION:2.0
PRODID:-//Plone.org//NONSGML plone.app.event//EN
X-WR-TIMEZONE:America/Sao_Paulo
BEGIN:VEVENT
SUMMARY:Assembleia temática Sindifes em [ Auditorio A102 do Cad 2]
DTSTART;TZID=America/Sao_Paulo;VALUE=DATE-TIME:20240403T140000
DTEND;TZID=America/Sao_Paulo;VALUE=DATE-TIME:20240403T160000
DTSTAMP;VALUE=DATE-TIME:20260420T044739Z
UID:e2e7a07bdf3148a29927f435c017335d@150.164.76.86:8080
CREATED;VALUE=DATE-TIME:20240327T181405Z
DESCRIPTION:<p>Assembleia sindical temática.</p>
LAST-MODIFIED;VALUE=DATE-TIME:20240327T181441Z
URL:http://150.164.76.86:8080/cac/agenda/3459665259001132361
END:VEVENT
BEGIN:VTIMEZONE
TZID:America/Sao_Paulo
X-LIC-LOCATION:America/Sao_Paulo
BEGIN:STANDARD
DTSTART;VALUE=DATE-TIME:20240217T230000
TZNAME:BRT
TZOFFSETFROM:-0200
TZOFFSETTO:-0300
END:STANDARD
END:VTIMEZONE
END:VCALENDAR
