BEGIN:VCALENDAR
VERSION:2.0
PRODID:-//Plone.org//NONSGML plone.app.event//EN
X-WR-TIMEZONE:America/Sao_Paulo
BEGIN:VEVENT
SUMMARY:Solenidade Prof. Emérito em [ Auditorio da Reitoria]
DTSTART;TZID=America/Sao_Paulo;VALUE=DATE-TIME:20240612T160000
DTEND;TZID=America/Sao_Paulo;VALUE=DATE-TIME:20240612T210000
DTSTAMP;VALUE=DATE-TIME:20260420T013912Z
UID:dd9246930f884c39b0680ca9edd3c511@150.164.76.86:8080
CREATED;VALUE=DATE-TIME:20240322T121924Z
DESCRIPTION:<p>Solenidade Prof. Emérito.</p>
LAST-MODIFIED;VALUE=DATE-TIME:20240325T175722Z
URL:http://150.164.76.86:8080/cac/agenda/3456630490156172923
END:VEVENT
BEGIN:VTIMEZONE
TZID:America/Sao_Paulo
X-LIC-LOCATION:America/Sao_Paulo
BEGIN:STANDARD
DTSTART;VALUE=DATE-TIME:20240217T230000
TZNAME:BRT
TZOFFSETFROM:-0200
TZOFFSETTO:-0300
END:STANDARD
END:VTIMEZONE
END:VCALENDAR
