BEGIN:VCALENDAR
VERSION:2.0
PRODID:-//Plone.org//NONSGML plone.app.event//EN
X-WR-TIMEZONE:America/Sao_Paulo
BEGIN:VEVENT
SUMMARY:Seminário Fhemig - tema a definir em [ Outros espacos]
DTSTART;TZID=America/Sao_Paulo;VALUE=DATE-TIME:20230426T140000
DTEND;TZID=America/Sao_Paulo;VALUE=DATE-TIME:20230426T160000
DTSTAMP;VALUE=DATE-TIME:20260421T150014Z
UID:5188676ba286441b94ec8cbe83f5c2cc@150.164.76.86:8080
CREATED;VALUE=DATE-TIME:20230317T125751Z
DESCRIPTION:Evento é uma parceria entre UFMG e Fhemig e serão quatro edi
 ções ao longo do ano
LAST-MODIFIED;VALUE=DATE-TIME:20230317T175250Z
URL:http://150.164.76.86:8080/cac/agenda/3446188379246041344
END:VEVENT
BEGIN:VTIMEZONE
TZID:America/Sao_Paulo
X-LIC-LOCATION:America/Sao_Paulo
BEGIN:STANDARD
DTSTART;VALUE=DATE-TIME:20230225T230000
TZNAME:BRT
TZOFFSETFROM:-0200
TZOFFSETTO:-0300
END:STANDARD
END:VTIMEZONE
END:VCALENDAR
