BEGIN:VCALENDAR
VERSION:2.0
PRODID:-//Plone.org//NONSGML plone.app.event//EN
X-WR-TIMEZONE:America/Sao_Paulo
BEGIN:VEVENT
SUMMARY:Café com Publicidade: saberes da experiência profissional em di
 álogo com a Universidade em [ Auditorio A102 do Cad 2]
DTSTART;TZID=America/Sao_Paulo;VALUE=DATE-TIME:20231124T080000
DTEND;TZID=America/Sao_Paulo;VALUE=DATE-TIME:20231124T120000
DTSTAMP;VALUE=DATE-TIME:20260420T143249Z
UID:0d7f969734b94ab2b25abc7765135c54@150.164.76.86:8080
CREATED;VALUE=DATE-TIME:20231031T164946Z
DESCRIPTION:<p>Seminário de conclusão do curso Projetos BI em Publicidad
 e e Propaganda\, com a participação de profissionais da área convidados
  pelos alunos com o intuito de promover trocas de saberes entre o mercado 
 de trabalho de comunicação e a Universidade. Neste segundo dia\, vão se
  apresentar 4 profissionais atuantes em agências e instituições na áre
 a de Publicidade e Propaganda (Agência doBrasil\, Engenharia Filmes\, HB 
 Audiovisual e SÊ Comunicação). Após a apresentação de cada profissio
 nal\, será realizado um bate-papo em dinâmica de roda-viva\, na qual as 
 alunas e alunos vão colocar aos convidados as suas principais dúvidas\, 
 curiosidades\, sentimentos e reflexões referentes ao campo profissional d
 a Publicidade e Propaganda. Equipamentos: projetor\, computador\, caixa de
  som e microfone. Uma mesa para café.</p>
LAST-MODIFIED;VALUE=DATE-TIME:20231107T183707Z
URL:http://150.164.76.86:8080/cac/agenda/3392434904700573768
END:VEVENT
BEGIN:VTIMEZONE
TZID:America/Sao_Paulo
X-LIC-LOCATION:America/Sao_Paulo
BEGIN:DAYLIGHT
DTSTART;VALUE=DATE-TIME:20231015T010000
TZNAME:BRST
TZOFFSETFROM:-0300
TZOFFSETTO:-0200
END:DAYLIGHT
END:VTIMEZONE
END:VCALENDAR
