BEGIN:VCALENDAR
VERSION:2.0
PRODID:-//Plone.org//NONSGML plone.app.event//EN
X-WR-TIMEZONE:America/Sao_Paulo
BEGIN:VEVENT
SUMMARY:Vestibular da Faculdade de Medicina de Barbacena - FAME Funjobe em
  [ Auditorio Nobre do CAD 1 - sem copa\, saguão parcial Auditorio 1A do C
 AD 1 Auditorio 2A do CAD 1]
DTSTART;TZID=America/Sao_Paulo;VALUE=DATE-TIME:20250517T080000
DTEND;TZID=America/Sao_Paulo;VALUE=DATE-TIME:20250518T220000
DTSTAMP;VALUE=DATE-TIME:20260419T103515Z
UID:62bea93e62164db28d8f1e0ec4ac29f4@150.164.76.86:8080
CREATED;VALUE=DATE-TIME:20250423T202133Z
DESCRIPTION:<p><span><span>Vestibular da Faculdade de Medicina de Barbacen
 a - FAME Funjobe</span></span></p>
LAST-MODIFIED;VALUE=DATE-TIME:20250423T202225Z
URL:http://150.164.76.86:8080/cac/agenda/3391579833601633159
END:VEVENT
BEGIN:VTIMEZONE
TZID:America/Sao_Paulo
X-LIC-LOCATION:America/Sao_Paulo
BEGIN:STANDARD
DTSTART;VALUE=DATE-TIME:20250215T230000
TZNAME:BRT
TZOFFSETFROM:-0200
TZOFFSETTO:-0300
END:STANDARD
END:VTIMEZONE
END:VCALENDAR
