BEGIN:VCALENDAR
VERSION:2.0
PRODID:-//Plone.org//NONSGML plone.app.event//EN
X-WR-TIMEZONE:America/Sao_Paulo
BEGIN:VEVENT
SUMMARY:Instalação de painel artístico em [ Em torno da Praca de Servic
 os]
DTSTART;TZID=America/Sao_Paulo;VALUE=DATE-TIME:20220825T080000
DTEND;TZID=America/Sao_Paulo;VALUE=DATE-TIME:20220826T180000
DTSTAMP;VALUE=DATE-TIME:20260422T032020Z
UID:21e5feef5f2847838e1b999e683fa4c4@150.164.76.86:8080
CREATED;VALUE=DATE-TIME:20220711T142842Z
DESCRIPTION:As datas se referem a instalação do painel / obra de arte (s
 erá instalado em parede lateral). \nAinda não há data para desmontagem.
LAST-MODIFIED;VALUE=DATE-TIME:20220714T181824Z
URL:http://150.164.76.86:8080/cac/agenda/3385711968110728001
END:VEVENT
BEGIN:VTIMEZONE
TZID:America/Sao_Paulo
X-LIC-LOCATION:America/Sao_Paulo
BEGIN:STANDARD
DTSTART;VALUE=DATE-TIME:20220219T230000
TZNAME:BRT
TZOFFSETFROM:-0200
TZOFFSETTO:-0300
END:STANDARD
END:VTIMEZONE
END:VCALENDAR
