BEGIN:VCALENDAR
VERSION:2.0
PRODID:-//Plone.org//NONSGML plone.app.event//EN
X-WR-TIMEZONE:America/Sao_Paulo
BEGIN:VEVENT
SUMMARY:Feira da UFMG - Aqui tem Agroecologia e Economia Popular Solidári
 a em [ Entorno da Praca de Servicos]
DTSTART;TZID=America/Sao_Paulo;VALUE=DATE-TIME:20250205T080000
DTEND;TZID=America/Sao_Paulo;VALUE=DATE-TIME:20250205T180000
DTSTAMP;VALUE=DATE-TIME:20260419T135331Z
UID:b245a02e652c4299b9358d60fa395a2d@150.164.76.86:8080
CREATED;VALUE=DATE-TIME:20241125T130625Z
DESCRIPTION:A programação do evento ainda não foi definida.
LAST-MODIFIED;VALUE=DATE-TIME:20241125T130711Z
URL:http://150.164.76.86:8080/cac/agenda/3371187182768051856
END:VEVENT
BEGIN:VTIMEZONE
TZID:America/Sao_Paulo
X-LIC-LOCATION:America/Sao_Paulo
BEGIN:DAYLIGHT
DTSTART;VALUE=DATE-TIME:20241020T010000
TZNAME:BRST
TZOFFSETFROM:-0300
TZOFFSETTO:-0200
END:DAYLIGHT
END:VTIMEZONE
END:VCALENDAR
