BEGIN:VCALENDAR
VERSION:2.0
PRODID:-//Plone.org//NONSGML plone.app.event//EN
X-WR-TIMEZONE:America/Sao_Paulo
BEGIN:VEVENT
SUMMARY:Café Hidrogeológico em [ Auditório B106 do CAD3]
DTSTART;TZID=America/Sao_Paulo;VALUE=DATE-TIME:20230613T080000
DTEND;TZID=America/Sao_Paulo;VALUE=DATE-TIME:20230613T210000
DTSTAMP;VALUE=DATE-TIME:20260421T160932Z
UID:e555d71a108d4bbc9f5df649ddf5fce6@150.164.76.86:8080
CREATED;VALUE=DATE-TIME:20230420T175459Z
DESCRIPTION:<p>Tripé para banner\; equipamentos de áudio e vídeo\; Rese
 rva da cantina do CAD 3. No dia 13/06\, das 08h as 22h\, serão realizadas
  palestras da área de hidrogeologia\, nos auditórios solicitados para re
 serva. A programação completa do evento está sendo definida pela Comiss
 ão Organizadora.</p>
LAST-MODIFIED;VALUE=DATE-TIME:20230607T143938Z
URL:http://150.164.76.86:8080/cac/agenda/3354665454128245841
END:VEVENT
BEGIN:VTIMEZONE
TZID:America/Sao_Paulo
X-LIC-LOCATION:America/Sao_Paulo
BEGIN:STANDARD
DTSTART;VALUE=DATE-TIME:20230225T230000
TZNAME:BRT
TZOFFSETFROM:-0200
TZOFFSETTO:-0300
END:STANDARD
END:VTIMEZONE
END:VCALENDAR
