BEGIN:VCALENDAR
VERSION:2.0
PRODID:-//Plone.org//NONSGML plone.app.event//EN
X-WR-TIMEZONE:America/Sao_Paulo
BEGIN:VEVENT
SUMMARY:Projeto Recitais em [ Outros espacos]
DTSTART;TZID=America/Sao_Paulo;VALUE=DATE-TIME:20240829T190000
DTEND;TZID=America/Sao_Paulo;VALUE=DATE-TIME:20240829T210000
DTSTAMP;VALUE=DATE-TIME:20260419T222948Z
UID:00940544036f4de0bab1241ae5745b12@150.164.76.86:8080
CREATED;VALUE=DATE-TIME:20240729T161931Z
DESCRIPTION:Apresentação Musical da Banda Fita Amarela.\nData: 29/08/202
 4\nHorário: de 19 às 21 h\n\n\nNecessidades:\n\nPessoal:\na) 01 técnico
  de som (16:30 às 20:30 h)\n\nEquipamentos:\n02 caixas de subwoofer com c
 abos A/C\n\nObservação: aprovado o empréstimo das caixas\, agendarei o 
 veículo com carregadores para buscar o material no dia 29/08\, às 09 hor
 as.\nE devolvê-las dia 30/08/2024\, também às 09 horas.
LAST-MODIFIED;VALUE=DATE-TIME:20240806T135632Z
URL:http://150.164.76.86:8080/cac/agenda/3350702407014172705
END:VEVENT
BEGIN:VTIMEZONE
TZID:America/Sao_Paulo
X-LIC-LOCATION:America/Sao_Paulo
BEGIN:STANDARD
DTSTART;VALUE=DATE-TIME:20240217T230000
TZNAME:BRT
TZOFFSETFROM:-0200
TZOFFSETTO:-0300
END:STANDARD
END:VTIMEZONE
END:VCALENDAR
