BEGIN:VCALENDAR
VERSION:2.0
PRODID:-//Plone.org//NONSGML plone.app.event//EN
X-WR-TIMEZONE:America/Sao_Paulo
BEGIN:VEVENT
SUMMARY:30 Anos de Pesquisa em Imunologia e Vacinologia: tolerância\, res
 iliência e resistência! em [ Auditorio Nobre do CAD 1]
DTSTART;TZID=America/Sao_Paulo;VALUE=DATE-TIME:20250219T080000
DTEND;TZID=America/Sao_Paulo;VALUE=DATE-TIME:20250222T120000
DTSTAMP;VALUE=DATE-TIME:20260419T134005Z
UID:14653578bbbf44ef91bcebe02ca032d1@150.164.76.86:8080
CREATED;VALUE=DATE-TIME:20241014T131659Z
DESCRIPTION:<p>30 Anos de Pesquisa em Imunologia e Vacinologia: Tolerânci
 a\, Resiliência e Resistência’ nos dias 20 e 21/02/2025.</p>
LAST-MODIFIED;VALUE=DATE-TIME:20250219T131241Z
URL:http://150.164.76.86:8080/cac/agenda/3325456857224257420
END:VEVENT
BEGIN:VTIMEZONE
TZID:America/Sao_Paulo
X-LIC-LOCATION:America/Sao_Paulo
BEGIN:STANDARD
DTSTART;VALUE=DATE-TIME:20250215T230000
TZNAME:BRT
TZOFFSETFROM:-0200
TZOFFSETTO:-0300
END:STANDARD
END:VTIMEZONE
END:VCALENDAR
