BEGIN:VCALENDAR
VERSION:2.0
PRODID:-//Plone.org//NONSGML plone.app.event//EN
X-WR-TIMEZONE:America/Sao_Paulo
BEGIN:VEVENT
SUMMARY:Ao cair da tarde em [ Arena da praça de serviços Auditorio da Re
 itoria]
DTSTART;TZID=America/Sao_Paulo;VALUE=DATE-TIME:20230921T140000
DTEND;TZID=America/Sao_Paulo;VALUE=DATE-TIME:20230921T193000
DTSTAMP;VALUE=DATE-TIME:20260421T075129Z
UID:1a0fa6e410ff405bb654a36977bfe39f@150.164.76.86:8080
CREATED;VALUE=DATE-TIME:20221124T161537Z
DESCRIPTION:<p>Ao cair da tarde\, Equipamentos a definir. somente reserva 
 do espaço.</p>
LAST-MODIFIED;VALUE=DATE-TIME:20230808T123103Z
URL:http://150.164.76.86:8080/cac/agenda/3321058829713297313
END:VEVENT
BEGIN:VTIMEZONE
TZID:America/Sao_Paulo
X-LIC-LOCATION:America/Sao_Paulo
BEGIN:STANDARD
DTSTART;VALUE=DATE-TIME:20230225T230000
TZNAME:BRT
TZOFFSETFROM:-0200
TZOFFSETTO:-0300
END:STANDARD
END:VTIMEZONE
END:VCALENDAR
