BEGIN:VCALENDAR
VERSION:2.0
PRODID:-//Plone.org//NONSGML plone.app.event//EN
X-WR-TIMEZONE:America/Sao_Paulo
BEGIN:VEVENT
SUMMARY:Colação de Grau dos Formandos em Letras em [ Auditorio Nobre do 
 CAD 1]
DTSTART;TZID=America/Sao_Paulo;VALUE=DATE-TIME:20250425T170000
DTEND;TZID=America/Sao_Paulo;VALUE=DATE-TIME:20250425T213000
DTSTAMP;VALUE=DATE-TIME:20260419T104420Z
UID:e0fc822995d34bd6b55ce97c97c6bfa8@150.164.76.86:8080
CREATED;VALUE=DATE-TIME:20241121T193726Z
DESCRIPTION:Cerimônia de colação de grau dos formandos em Letras. Será
  utilizado o projetor e a tela retrátil\; as mesas\, púlpitos e sala aud
 iovisual.
LAST-MODIFIED;VALUE=DATE-TIME:20241122T183144Z
URL:http://150.164.76.86:8080/cac/agenda/3304769820705831582
END:VEVENT
BEGIN:VTIMEZONE
TZID:America/Sao_Paulo
X-LIC-LOCATION:America/Sao_Paulo
BEGIN:STANDARD
DTSTART;VALUE=DATE-TIME:20250215T230000
TZNAME:BRT
TZOFFSETFROM:-0200
TZOFFSETTO:-0300
END:STANDARD
END:VTIMEZONE
END:VCALENDAR
