BEGIN:VCALENDAR
VERSION:2.0
PRODID:-//Plone.org//NONSGML plone.app.event//EN
X-WR-TIMEZONE:America/Sao_Paulo
BEGIN:VEVENT
SUMMARY:I CONGRESSO LATINO-AMERICANO DE PATOLOGIA MAMÁRIA CANINA E FELINA
  em [ Auditorio Nobre do CAD 1]
DTSTART;TZID=America/Sao_Paulo;VALUE=DATE-TIME:20231005T070000
DTEND;TZID=America/Sao_Paulo;VALUE=DATE-TIME:20231006T210000
DTSTAMP;VALUE=DATE-TIME:20260421T020403Z
UID:f8d108cdebde4a898c2773d098d3c54a@150.164.76.86:8080
CREATED;VALUE=DATE-TIME:20230116T175632Z
DESCRIPTION:<p>Será necessário para o evento: equipamentos de audio\, mi
 crofones\, computador para projeção de apresentações e internet para t
 ransmissão de video-conferência. Na área externa\, expositores para ban
 ner (cerca de 80 suportes)\; e espaço para coffee break (mesas disponíve
 is\, tomadas e freezer) Em anexo a programação do evento: DIA 1 (05/10) 
 8:00-9:00 CREDENCIAMENTO 9:00-9:30 ABERTURA - GEOVANNI CASSALI 9:30-10:20 
 ESTADIAMENTO CLÍNICO PAULO JARK 10:30-11:00 COFFEE 11:00-11:50 TRATAMENTO
  RODRIGO HORTA 12:00-13:30 ALMOÇO 13:30-14:20 METÁSTASE EM LINFONODO MAR
 INA RIOS 14:30-15:20 CARCINOMAS SÓLIDOS KAREN YUMI 15:30-16:00 COFFEE 16:
 00-16:30 ESPAÇO DO PATROCINADOR 16:30-17:20 MARCADORES PROGNOSTICOS E PRE
 DITIVOS - GEOVANNI CASSALI 17:30 LANÇAMENTO DO LIVRO E COQUETEL DIA 2 (06
 /10) 8:30-9:00 SLOVET PAULO JARK 9:00- 9:50 PATOLOGIA MAMÁRIA MÉXICO - A
 LEJANDRO CERVANTES 10:00-10:30 COFFEE 11:00-11:50 PATOLOGIA MAMÁRIA ARGEN
 TINA - MATIAS TELLADO 11:20-12:20 PANORAMA DA PATOLOGIA MAMÁRIA EM OUTROS
  PAÍSES (CHILE\, URUGUAI\, COLOMBIA E EQUADOR) 12:30-14:00 ALMOÇO 14:00-
 16:00 MESA REDONDA 16:00-16:30 COFFEE 17:00-17:30 PREMIAÇÕES 17:30-18:00
  ENCERRAMENTO. OBS: ESPAÇO RESERVADO SEM ATENDIMENTO TÉCNICO AUDIOVISUAL
  CAC\, CONFORME ACORDADO COM DEMANDANTE\, DEVIDO FALTA DE PESSOAL.</p>
LAST-MODIFIED;VALUE=DATE-TIME:20230117T170843Z
URL:http://150.164.76.86:8080/cac/agenda/3303059339360940114
END:VEVENT
BEGIN:VTIMEZONE
TZID:America/Sao_Paulo
X-LIC-LOCATION:America/Sao_Paulo
BEGIN:STANDARD
DTSTART;VALUE=DATE-TIME:20230225T230000
TZNAME:BRT
TZOFFSETFROM:-0200
TZOFFSETTO:-0300
END:STANDARD
END:VTIMEZONE
END:VCALENDAR
