BEGIN:VCALENDAR
VERSION:2.0
PRODID:-//Plone.org//NONSGML plone.app.event//EN
X-WR-TIMEZONE:America/Sao_Paulo
BEGIN:VEVENT
SUMMARY:Reunião Dra. Dalila Andrade e coordenadores de pós em [ Auditori
 o da Reitoria]
DTSTART;TZID=America/Sao_Paulo;VALUE=DATE-TIME:20230906T090000
DTEND;TZID=America/Sao_Paulo;VALUE=DATE-TIME:20230906T120000
DTSTAMP;VALUE=DATE-TIME:20260421T080622Z
UID:1a022990c41a454ab062cf62e2ee094a@150.164.76.86:8080
CREATED;VALUE=DATE-TIME:20230814T205546Z
DESCRIPTION:<p>Reunião com a Dra. Dalila Andrade\, Presidente do CNPQ\, e
  os coordenadores de pós-graduação da UFMG</p>
LAST-MODIFIED;VALUE=DATE-TIME:20230814T205559Z
URL:http://150.164.76.86:8080/cac/agenda/3302603866297596434
END:VEVENT
BEGIN:VTIMEZONE
TZID:America/Sao_Paulo
X-LIC-LOCATION:America/Sao_Paulo
BEGIN:STANDARD
DTSTART;VALUE=DATE-TIME:20230225T230000
TZNAME:BRT
TZOFFSETFROM:-0200
TZOFFSETTO:-0300
END:STANDARD
END:VTIMEZONE
END:VCALENDAR
