BEGIN:VCALENDAR
VERSION:2.0
PRODID:-//Plone.org//NONSGML plone.app.event//EN
X-WR-TIMEZONE:America/Sao_Paulo
BEGIN:VEVENT
SUMMARY:Semana Servidor Mesas Temáticas em [ Auditorio da Reitoria]
DTSTART;TZID=America/Sao_Paulo;VALUE=DATE-TIME:20221026T090000
DTEND;TZID=America/Sao_Paulo;VALUE=DATE-TIME:20221026T120000
DTSTAMP;VALUE=DATE-TIME:20260421T235157Z
UID:fd84f352e6354f2c85c3deda7e6e05fd@150.164.76.86:8080
CREATED;VALUE=DATE-TIME:20220909T174611Z
DESCRIPTION:<p>Semana do servidor mesa temática Democracia e Pesquisa nas
  universidades. Haverá transmissão canal cac</p>
LAST-MODIFIED;VALUE=DATE-TIME:20220909T175630Z
URL:http://150.164.76.86:8080/cac/agenda/3301764815462443846
END:VEVENT
BEGIN:VTIMEZONE
TZID:America/Sao_Paulo
X-LIC-LOCATION:America/Sao_Paulo
BEGIN:DAYLIGHT
DTSTART;VALUE=DATE-TIME:20221016T010000
TZNAME:BRST
TZOFFSETFROM:-0300
TZOFFSETTO:-0200
END:DAYLIGHT
END:VTIMEZONE
END:VCALENDAR
