BEGIN:VCALENDAR
VERSION:2.0
PRODID:-//Plone.org//NONSGML plone.app.event//EN
X-WR-TIMEZONE:America/Sao_Paulo
BEGIN:VEVENT
SUMMARY: em [ Auditório B106 do CAD3 Auditório B107 do CAD3]
DTSTART;TZID=America/Sao_Paulo;VALUE=DATE-TIME:20230508T073000
DTEND;TZID=America/Sao_Paulo;VALUE=DATE-TIME:20230508T123000
DTSTAMP;VALUE=DATE-TIME:20260421T120002Z
UID:09e2b27521464ae79a82c4ac34790790@150.164.76.86:8080
CREATED;VALUE=DATE-TIME:20230503T170758Z
DESCRIPTION:<p>Auditório b106 - sala de espera dos candidatos</p>\n<p>Aud
 itório b107 - sala de avaliação</p>\n<p>Procedimento necessário para a
  concessão de bolsas ofertadas pelo Termo de Ajuste de Conduta do Carrefo
 ur</p>
LAST-MODIFIED;VALUE=DATE-TIME:20230503T171326Z
URL:http://150.164.76.86:8080/cac/agenda/3280898734679496224
END:VEVENT
BEGIN:VTIMEZONE
TZID:America/Sao_Paulo
X-LIC-LOCATION:America/Sao_Paulo
BEGIN:STANDARD
DTSTART;VALUE=DATE-TIME:20230225T230000
TZNAME:BRT
TZOFFSETFROM:-0200
TZOFFSETTO:-0300
END:STANDARD
END:VTIMEZONE
END:VCALENDAR
