BEGIN:VCALENDAR
VERSION:2.0
PRODID:-//Plone.org//NONSGML plone.app.event//EN
X-WR-TIMEZONE:America/Sao_Paulo
BEGIN:VEVENT
SUMMARY:Pré-reserva Reitora em [ Auditorio Nobre do CAD 1]
DTSTART;TZID=America/Sao_Paulo;VALUE=DATE-TIME:20231114T080000
DTEND;TZID=America/Sao_Paulo;VALUE=DATE-TIME:20231114T210000
DTSTAMP;VALUE=DATE-TIME:20260420T131803Z
UID:1a7f911a79ac4176a18a932b2fa85646@150.164.76.86:8080
CREATED;VALUE=DATE-TIME:20231003T211902Z
DESCRIPTION:<p>Pré-reserva</p>
LAST-MODIFIED;VALUE=DATE-TIME:20231003T211925Z
URL:http://150.164.76.86:8080/cac/agenda/3268507670913612079
END:VEVENT
BEGIN:VTIMEZONE
TZID:America/Sao_Paulo
X-LIC-LOCATION:America/Sao_Paulo
BEGIN:DAYLIGHT
DTSTART;VALUE=DATE-TIME:20231015T010000
TZNAME:BRST
TZOFFSETFROM:-0300
TZOFFSETTO:-0200
END:DAYLIGHT
END:VTIMEZONE
END:VCALENDAR
