BEGIN:VCALENDAR
VERSION:2.0
PRODID:-//Plone.org//NONSGML plone.app.event//EN
X-WR-TIMEZONE:America/Sao_Paulo
BEGIN:VEVENT
SUMMARY:Feriado Municipal em Belo Horizonte: Imaculada Conceição em [ Au
 ditorio da Reitoria Saguao da Reitoria Gramado da Reitoria Arena da praça
  de serviços Entorno da Praca de Servicos Auditorio Nobre do CAD 1 Audito
 rio 1A do CAD 1 Auditorio 2A do CAD 1 Auditorio A102 do Cad 2 Auditorio A1
 04 do Cad 2 Auditório B101/102 do CAD 3 Auditório B106 do CAD3 Auditóri
 o B107 do CAD3]
DTSTART;TZID=America/Sao_Paulo;VALUE=DATE-TIME:20241208T070000
DTEND;TZID=America/Sao_Paulo;VALUE=DATE-TIME:20241208T220000
DTSTAMP;VALUE=DATE-TIME:20260419T163631Z
UID:73a1ff7e5334402fb3bf3b12dbff9b88@150.164.76.86:8080
CREATED;VALUE=DATE-TIME:20231106T135042Z
DESCRIPTION:<p>Feriado</p>
LAST-MODIFIED;VALUE=DATE-TIME:20231106T135150Z
URL:http://150.164.76.86:8080/cac/agenda/3263103574244646827
END:VEVENT
BEGIN:VTIMEZONE
TZID:America/Sao_Paulo
X-LIC-LOCATION:America/Sao_Paulo
BEGIN:DAYLIGHT
DTSTART;VALUE=DATE-TIME:20241020T010000
TZNAME:BRST
TZOFFSETFROM:-0300
TZOFFSETTO:-0200
END:DAYLIGHT
END:VTIMEZONE
END:VCALENDAR
