BEGIN:VCALENDAR
VERSION:2.0
PRODID:-//Plone.org//NONSGML plone.app.event//EN
X-WR-TIMEZONE:America/Sao_Paulo
BEGIN:VEVENT
SUMMARY:Concurso Público de Professor Efetivo de EDUCAÇÃO FÍSICA do Ce
 ntro Pedagógico-CP UFMG 2024 em [ Auditorio A104 do Cad 2]
DTSTART;TZID=America/Sao_Paulo;VALUE=DATE-TIME:20241216T070000
DTEND;TZID=America/Sao_Paulo;VALUE=DATE-TIME:20241216T210000
DTSTAMP;VALUE=DATE-TIME:20260419T163325Z
UID:1d74db21f5ab4389985dfcae4f015957@150.164.76.86:8080
CREATED;VALUE=DATE-TIME:20240910T194039Z
DESCRIPTION:<p>A pedido da Professora Tânia Aretuza Ambrizi Gebara\, Dire
 tora do Centro Pedagógico - CP/EBAP/UFMG\, solicito a verificação de ag
 endamento de reserva de um auditório no CAD2 e reserva de quatro(4) salas
  de aula no CAD2 - com capacidade pelo menos para 40 pessoas ou mais e com
  carteiras - se possível localizadas próximas no mesmo andar\, para real
 ização de Concurso Público para Professores Efetivos do Centro Pedagóg
 ico - CP de 02 áreas do conhecimento\, conforme descrito abaixo. Respons
 áveis: Profª. Tânia e Prof. Evaldo - Diretoria do CP (dir@cp.ufmg.br) e
  Luciane Lelis (Secretaria Administrativa do CP (CP-Secretaria &lt\;secrge
 ral@cp.ufmg.br&gt\;) 1) Período: dia 16/12/2024 - Concurso Professor de E
 DUCAÇÃO FÍSICA - uso dos espaços o dia todo: 07:00 até 21:00 - Banca:
  7 a 8 membros. Dia - Auditório A104 CAD 2 (com 01 microfone\, projetor e
  notebook): - para Abertura do Concurso Público - de 07:30 às 11:00 hora
 s - instalação da Banca do Concurso - e uso do auditório de 13:00 às 2
 0:30 - para a aplicação da prova didática para os candidatos.</p>
LAST-MODIFIED;VALUE=DATE-TIME:20241004T192322Z
URL:http://150.164.76.86:8080/cac/agenda/3252097910565507726
END:VEVENT
BEGIN:VTIMEZONE
TZID:America/Sao_Paulo
X-LIC-LOCATION:America/Sao_Paulo
BEGIN:DAYLIGHT
DTSTART;VALUE=DATE-TIME:20241020T010000
TZNAME:BRST
TZOFFSETFROM:-0300
TZOFFSETTO:-0200
END:DAYLIGHT
END:VTIMEZONE
END:VCALENDAR
