BEGIN:VCALENDAR
VERSION:2.0
PRODID:-//Plone.org//NONSGML plone.app.event//EN
X-WR-TIMEZONE:America/Sao_Paulo
BEGIN:VEVENT
SUMMARY:Pré-reserva Hibrida de Progressão por Capacitação da CIS - SIN
 DIFES em [ Auditorio A104 do Cad 2]
DTSTART;TZID=America/Sao_Paulo;VALUE=DATE-TIME:20240923T130000
DTEND;TZID=America/Sao_Paulo;VALUE=DATE-TIME:20240923T170000
DTSTAMP;VALUE=DATE-TIME:20260419T205703Z
UID:31dcccff7f7c4073a1fa30f14a31e865@150.164.76.86:8080
CREATED;VALUE=DATE-TIME:20240918T140530Z
DESCRIPTION:<p>pré-reserva</p>
LAST-MODIFIED;VALUE=DATE-TIME:20240918T140637Z
URL:http://150.164.76.86:8080/cac/agenda/3251462724528599479
END:VEVENT
BEGIN:VTIMEZONE
TZID:America/Sao_Paulo
X-LIC-LOCATION:America/Sao_Paulo
BEGIN:STANDARD
DTSTART;VALUE=DATE-TIME:20240217T230000
TZNAME:BRT
TZOFFSETFROM:-0200
TZOFFSETTO:-0300
END:STANDARD
END:VTIMEZONE
END:VCALENDAR
