BEGIN:VCALENDAR
VERSION:2.0
PRODID:-//Plone.org//NONSGML plone.app.event//EN
X-WR-TIMEZONE:America/Sao_Paulo
BEGIN:VEVENT
SUMMARY:Reunião Fundo FUNDEP em [ Auditorio da Reitoria]
DTSTART;TZID=America/Sao_Paulo;VALUE=DATE-TIME:20250430T140000
DTEND;TZID=America/Sao_Paulo;VALUE=DATE-TIME:20250430T180000
DTSTAMP;VALUE=DATE-TIME:20260419T103509Z
UID:d48e90f560bb473eb1977b8527e04a13@150.164.76.86:8080
CREATED;VALUE=DATE-TIME:20250106T124538Z
DESCRIPTION:<p><span>Reunião Fundo Fundep</span></p>
LAST-MODIFIED;VALUE=DATE-TIME:20250106T124558Z
URL:http://150.164.76.86:8080/cac/agenda/3247559953561144735
END:VEVENT
BEGIN:VTIMEZONE
TZID:America/Sao_Paulo
X-LIC-LOCATION:America/Sao_Paulo
BEGIN:STANDARD
DTSTART;VALUE=DATE-TIME:20250215T230000
TZNAME:BRT
TZOFFSETFROM:-0200
TZOFFSETTO:-0300
END:STANDARD
END:VTIMEZONE
END:VCALENDAR
