BEGIN:VCALENDAR
VERSION:2.0
PRODID:-//Plone.org//NONSGML plone.app.event//EN
X-WR-TIMEZONE:America/Sao_Paulo
BEGIN:VEVENT
SUMMARY:Quinta Cultural - Campus Saúde em [ Outros espacos]
DTSTART;TZID=America/Sao_Paulo;VALUE=DATE-TIME:20231116T090000
DTEND;TZID=America/Sao_Paulo;VALUE=DATE-TIME:20231116T140000
DTSTAMP;VALUE=DATE-TIME:20260420T131702Z
UID:33892903ba664526b6c607fd8084eb84@150.164.76.86:8080
CREATED;VALUE=DATE-TIME:20230904T190127Z
DESCRIPTION:Dentro do projeto Quinta Cultural\, que faz parte do Circuito 
 Cultural UFMG\, será realizado o show solo de Felipe Bedetti\, cantor e v
 iolonista o show terá início às 12h e tem 50 minutos de duração.
LAST-MODIFIED;VALUE=DATE-TIME:20230904T193000Z
URL:http://150.164.76.86:8080/cac/agenda/3207680057248913729
END:VEVENT
BEGIN:VTIMEZONE
TZID:America/Sao_Paulo
X-LIC-LOCATION:America/Sao_Paulo
BEGIN:DAYLIGHT
DTSTART;VALUE=DATE-TIME:20231015T010000
TZNAME:BRST
TZOFFSETFROM:-0300
TZOFFSETTO:-0200
END:DAYLIGHT
END:VTIMEZONE
END:VCALENDAR
