BEGIN:VCALENDAR
VERSION:2.0
PRODID:-//Plone.org//NONSGML plone.app.event//EN
X-WR-TIMEZONE:America/Sao_Paulo
BEGIN:VEVENT
SUMMARY:Encontro de Orientação para estudantes que realizarão mobilidad
 e em 2023/1 em [ Auditorio A104 do Cad 2]
DTSTART;TZID=America/Sao_Paulo;VALUE=DATE-TIME:20221003T120000
DTEND;TZID=America/Sao_Paulo;VALUE=DATE-TIME:20221004T190000
DTSTAMP;VALUE=DATE-TIME:20260421T221746Z
UID:66909dbe5fb44132af35bc646e5af688@150.164.76.86:8080
CREATED;VALUE=DATE-TIME:20220922T123926Z
DESCRIPTION:<p>Gostaríamos de\, gentilmente\, solicitar reserva do audit
 ório para realização do Encontro de Orientações de alunos que irão r
 ealizar a mobilidade em 2023/1. A reserva seria para dois dias: Quarta-fei
 ra (28/09) - 12:00 às 14:00 Quinta-feira (29/09) - 17 às 19:00 O evento 
 consiste em um "Encontro de Orientação" que a equipe de mobilidade ofere
 cerá aos alunos da UFMG que realizarão mobilidade pelo âmbito do Edital
  005_2022 no primeiro semestre de 2023\, tendo como objetivo explicar o pr
 ocesso de intercâmbio\, documentação e retirada de dúvidas. O número 
 de estudantes esperado é de 100 em cada um dos dias. Precisaremos também
  dos seguintes equipamentos: 01 microfone de mão c/ fio 01 microfone de m
 esa 01 notebook com acesso à internet e conectado ao sistema multimídia.
  Por fim\, gostaríamos de verificar sobre a possibilidade de gravação d
 o encontro para disponibilização no YouTube. Desde já\, agradeço pela 
 atenção.</p>
LAST-MODIFIED;VALUE=DATE-TIME:20220922T190927Z
URL:http://150.164.76.86:8080/cac/agenda/3188481289754183038
END:VEVENT
BEGIN:VTIMEZONE
TZID:America/Sao_Paulo
X-LIC-LOCATION:America/Sao_Paulo
BEGIN:STANDARD
DTSTART;VALUE=DATE-TIME:20220219T230000
TZNAME:BRT
TZOFFSETFROM:-0200
TZOFFSETTO:-0300
END:STANDARD
END:VTIMEZONE
END:VCALENDAR
