BEGIN:VCALENDAR
VERSION:2.0
PRODID:-//Plone.org//NONSGML plone.app.event//EN
X-WR-TIMEZONE:America/Sao_Paulo
BEGIN:VEVENT
SUMMARY:BRACIS em [ Auditorio Nobre do CAD 1]
DTSTART;TZID=America/Sao_Paulo;VALUE=DATE-TIME:20230922T070000
DTEND;TZID=America/Sao_Paulo;VALUE=DATE-TIME:20230925T210000
DTSTAMP;VALUE=DATE-TIME:20260421T050009Z
UID:27fd9893683e47ff8d433f552df19ef3@150.164.76.86:8080
CREATED;VALUE=DATE-TIME:20221226T155421Z
DESCRIPTION:<p>Conforme conversa com a Cássia e a Raquel\, nos compromete
 mos desde já com todo suporte audiovisual e equipamentos necessários par
 a realização do evento. Concordamos com a ressalva que deve haver um ser
 vidor da UFMG para supervisionar todos os serviços que serão realizados.
  O evento de caráter acadêmico vai congregar pesquisadores nacionais e i
 nternacionais da área de Inteligência Artificial. A programação compre
 ende palestras\, paineis e sessões técnicas\, além de coffee breaks.</p
 >
LAST-MODIFIED;VALUE=DATE-TIME:20230913T141302Z
URL:http://150.164.76.86:8080/cac/agenda/3149852456780832476
END:VEVENT
BEGIN:VTIMEZONE
TZID:America/Sao_Paulo
X-LIC-LOCATION:America/Sao_Paulo
BEGIN:STANDARD
DTSTART;VALUE=DATE-TIME:20230225T230000
TZNAME:BRT
TZOFFSETFROM:-0200
TZOFFSETTO:-0300
END:STANDARD
END:VTIMEZONE
END:VCALENDAR
