BEGIN:VCALENDAR
VERSION:2.0
PRODID:-//Plone.org//NONSGML plone.app.event//EN
X-WR-TIMEZONE:America/Sao_Paulo
BEGIN:VEVENT
SUMMARY:Palestra do Ministro da AGU  em [ Auditorio da Reitoria Auditorio 
 Nobre do CAD 1 Auditorio A102 do Cad 2 Auditorio A104 do Cad 2]
DTSTART;TZID=America/Sao_Paulo;VALUE=DATE-TIME:20240322T070000
DTEND;TZID=America/Sao_Paulo;VALUE=DATE-TIME:20240322T220000
DTSTAMP;VALUE=DATE-TIME:20260420T063055Z
UID:f7ef630b49574e72a30c017d241834cd@150.164.76.86:8080
CREATED;VALUE=DATE-TIME:20240301T153252Z
DESCRIPTION:<p>Evento do Gabinete da Reitora</p>
LAST-MODIFIED;VALUE=DATE-TIME:20240321T173155Z
URL:http://150.164.76.86:8080/cac/agenda/3148223165703162496
END:VEVENT
BEGIN:VTIMEZONE
TZID:America/Sao_Paulo
X-LIC-LOCATION:America/Sao_Paulo
BEGIN:STANDARD
DTSTART;VALUE=DATE-TIME:20240217T230000
TZNAME:BRT
TZOFFSETFROM:-0200
TZOFFSETTO:-0300
END:STANDARD
END:VTIMEZONE
END:VCALENDAR
