BEGIN:VCALENDAR
VERSION:2.0
PRODID:-//Plone.org//NONSGML plone.app.event//EN
X-WR-TIMEZONE:America/Sao_Paulo
BEGIN:VEVENT
SUMMARY:9º Simpósio Internacional de Colheita e Transporte Florestal em 
 [ Auditorio Nobre do CAD 1 Outros espacos]
DTSTART;TZID=America/Sao_Paulo;VALUE=DATE-TIME:20201027T080000
DTEND;TZID=America/Sao_Paulo;VALUE=DATE-TIME:20201030T180000
DTSTAMP;VALUE=DATE-TIME:20260424T172432Z
UID:943f1805da364c90b707a26828c3b3d7@150.164.76.86:8080
CREATED;VALUE=DATE-TIME:20200206T142830Z
DESCRIPTION:Equipamentos: visual (data show\, passador de slide e computad
 or) e sonoro ( 6 microfones móveis)\;\nServiços: serviços de limpeza e 
 suporte técnico para os equipamentos audiovisuais.\n\nProgramação Prév
 ia (palestras e palestrantes em fase de definição:\n\nDia 27/10\nMontage
 m dos Standes\n\nDia 28/10 - Quarta-feira\nHorário	Conteúdo\n08:00	Abert
 ura \n09:00	Palestra 1\n10:00	Coffee Break\n10:30	Palestra 2\n12:00	Interv
 alo para Almoço\n14:00	Palestra 3\n15:00	Palestra 4\n16:00	Coffee break\n
 16:30	Palestra 5\n17:30	Palestra 6\n18:00	Encerramento\n\nDia 29/10 - Quin
 ta-feira\n08:00	Abertura \n09:00	Palestra 1 \n10:00	Coffee Break\n10:30	Pa
 lestra 2 \n12:00	Intervalo para Almoço\n14:00	Palestra 3\n15:30	Coffee br
 eak\n16:00	Palestra 5 \n17:00	Palestra 6\n18:00	Encerramento\n\nDia 30/10\
 nDesmobilização dos Standes
LAST-MODIFIED;VALUE=DATE-TIME:20200213T132850Z
URL:http://150.164.76.86:8080/cac/agenda/3125283035651794846
END:VEVENT
BEGIN:VTIMEZONE
TZID:America/Sao_Paulo
X-LIC-LOCATION:America/Sao_Paulo
BEGIN:DAYLIGHT
DTSTART;VALUE=DATE-TIME:20201018T010000
TZNAME:BRST
TZOFFSETFROM:-0300
TZOFFSETTO:-0200
END:DAYLIGHT
END:VTIMEZONE
END:VCALENDAR
