BEGIN:VCALENDAR
VERSION:2.0
PRODID:-//Plone.org//NONSGML plone.app.event//EN
X-WR-TIMEZONE:America/Sao_Paulo
BEGIN:VEVENT
SUMMARY:O futuro do país e as instituições democráticas em [ Auditorio
  da Reitoria Auditorio Nobre do CAD 1]
DTSTART;TZID=America/Sao_Paulo;VALUE=DATE-TIME:20221007T110000
DTEND;TZID=America/Sao_Paulo;VALUE=DATE-TIME:20221007T130000
DTSTAMP;VALUE=DATE-TIME:20260421T234941Z
UID:5966e7a75c2646478a2ff8cac6ac8610@150.164.76.86:8080
CREATED;VALUE=DATE-TIME:20220922T194710Z
DESCRIPTION:<p>Evento do calendário comemorativo dos 95 anos UFMG</p>\n<p
 >Importante incluir banners 95 anos\, com apoio Fundep\, na entrada e na l
 ateral do auditório\, por favor.</p>\n<p>Local: Auditório da Reitoria\, 
 com transmissão pelo canal UFMG no Youtube</p>\n<p>Exibição vídeo Prog
 rama UFMG de Formação Cidadã<br />Execução Hino Nacional (Prof. Maur
 ício Freire - a confirmar/Profa. Benigna)<br />Abertura: Reitora<br />Con
 vidada: Ministra Carmem Lúcia<br />Atração Cultural (Dueto Profs. Mauro
  Rodrigues e Maurício Freire - a confirmar/Profa. Benigna)</p>
LAST-MODIFIED;VALUE=DATE-TIME:20221004T140550Z
URL:http://150.164.76.86:8080/cac/agenda/3123940951087698582
END:VEVENT
BEGIN:VTIMEZONE
TZID:America/Sao_Paulo
X-LIC-LOCATION:America/Sao_Paulo
BEGIN:STANDARD
DTSTART;VALUE=DATE-TIME:20220219T230000
TZNAME:BRT
TZOFFSETFROM:-0200
TZOFFSETTO:-0300
END:STANDARD
END:VTIMEZONE
END:VCALENDAR
