BEGIN:VCALENDAR
VERSION:2.0
PRODID:-//Plone.org//NONSGML plone.app.event//EN
X-WR-TIMEZONE:America/Sao_Paulo
BEGIN:VEVENT
SUMMARY:Reunião Sala de Sessões em [ Outros espacos]
DTSTART;TZID=America/Sao_Paulo;VALUE=DATE-TIME:20220502T140000
DTEND;TZID=America/Sao_Paulo;VALUE=DATE-TIME:20220502T180000
DTSTAMP;VALUE=DATE-TIME:20260422T063420Z
UID:7d5e6fd54a394a0cadaf5dd5eb9ceded@150.164.76.86:8080
CREATED;VALUE=DATE-TIME:20220502T124840Z
DESCRIPTION:<p>Reunião</p>
LAST-MODIFIED;VALUE=DATE-TIME:20220502T124853Z
URL:http://150.164.76.86:8080/cac/agenda/3106677090295659325
END:VEVENT
BEGIN:VTIMEZONE
TZID:America/Sao_Paulo
X-LIC-LOCATION:America/Sao_Paulo
BEGIN:STANDARD
DTSTART;VALUE=DATE-TIME:20220219T230000
TZNAME:BRT
TZOFFSETFROM:-0200
TZOFFSETTO:-0300
END:STANDARD
END:VTIMEZONE
END:VCALENDAR
