BEGIN:VCALENDAR
VERSION:2.0
PRODID:-//Plone.org//NONSGML plone.app.event//EN
X-WR-TIMEZONE:America/Sao_Paulo
BEGIN:VEVENT
SUMMARY:Reunião de Equipe da Reitora em [ Outros espacos]
DTSTART;TZID=America/Sao_Paulo;VALUE=DATE-TIME:20241004T093000
DTEND;TZID=America/Sao_Paulo;VALUE=DATE-TIME:20241004T123000
DTSTAMP;VALUE=DATE-TIME:20260419T192106Z
UID:2c8ccc8818a640bba582183791928f3f@150.164.76.86:8080
CREATED;VALUE=DATE-TIME:20240917T193450Z
DESCRIPTION:<p>Reunião de equipe da Reitora</p>
LAST-MODIFIED;VALUE=DATE-TIME:20240917T193509Z
URL:http://150.164.76.86:8080/cac/agenda/3105087317858557822
END:VEVENT
BEGIN:VTIMEZONE
TZID:America/Sao_Paulo
X-LIC-LOCATION:America/Sao_Paulo
BEGIN:STANDARD
DTSTART;VALUE=DATE-TIME:20240217T230000
TZNAME:BRT
TZOFFSETFROM:-0200
TZOFFSETTO:-0300
END:STANDARD
END:VTIMEZONE
END:VCALENDAR
