BEGIN:VCALENDAR
VERSION:2.0
PRODID:-//Plone.org//NONSGML plone.app.event//EN
X-WR-TIMEZONE:America/Sao_Paulo
BEGIN:VEVENT
SUMMARY:Feriado Carnaval 2022 em [ Saguao da Reitoria Auditorio da Reitori
 a Gramado da Reitoria Entorno da Praca de Servicos Auditorio Nobre do CAD 
 1 Auditorio 1A do CAD 1 Auditorio 2A do CAD 1 Auditorio A102 do Cad 2 Audi
 torio A104 do Cad 2 Arena da praça de serviços Auditório B302 do CAD 3 
 Auditório B101/102 do CAD 3 Auditório B301 do CAD 3]
DTSTART;TZID=America/Sao_Paulo;VALUE=DATE-TIME:20220228T000000
DTEND;TZID=America/Sao_Paulo;VALUE=DATE-TIME:20220302T230000
DTSTAMP;VALUE=DATE-TIME:20260422T094245Z
UID:e144c3b26f6743a6b98c0430bc484cb1@150.164.76.86:8080
CREATED;VALUE=DATE-TIME:20211122T142709Z
DESCRIPTION:<p>.</p>
LAST-MODIFIED;VALUE=DATE-TIME:20230111T201050Z
URL:http://150.164.76.86:8080/cac/agenda/3104494652613064815
END:VEVENT
BEGIN:VTIMEZONE
TZID:America/Sao_Paulo
X-LIC-LOCATION:America/Sao_Paulo
BEGIN:STANDARD
DTSTART;VALUE=DATE-TIME:20220219T230000
TZNAME:BRT
TZOFFSETFROM:-0200
TZOFFSETTO:-0300
END:STANDARD
END:VTIMEZONE
END:VCALENDAR
