BEGIN:VCALENDAR
VERSION:2.0
PRODID:-//Plone.org//NONSGML plone.app.event//EN
X-WR-TIMEZONE:America/Sao_Paulo
BEGIN:VEVENT
SUMMARY:Quarta Doze e Trinta em [ Arena da praça de serviços]
DTSTART;TZID=America/Sao_Paulo;VALUE=DATE-TIME:20231129T090000
DTEND;TZID=America/Sao_Paulo;VALUE=DATE-TIME:20231129T150000
DTSTAMP;VALUE=DATE-TIME:20260420T130751Z
UID:283044e0be694b52a3382f4a7892921b@150.164.76.86:8080
CREATED;VALUE=DATE-TIME:20231030T213516Z
DESCRIPTION:Espetáculo teatral com a temática racismo e solidão da mulh
 er negra\, protagonizado por aluna da UFMG
LAST-MODIFIED;VALUE=DATE-TIME:20231031T132858Z
URL:http://150.164.76.86:8080/cac/agenda/3093705561072290337
END:VEVENT
BEGIN:VTIMEZONE
TZID:America/Sao_Paulo
X-LIC-LOCATION:America/Sao_Paulo
BEGIN:DAYLIGHT
DTSTART;VALUE=DATE-TIME:20231015T010000
TZNAME:BRST
TZOFFSETFROM:-0300
TZOFFSETTO:-0200
END:DAYLIGHT
END:VTIMEZONE
END:VCALENDAR
