BEGIN:VCALENDAR
VERSION:2.0
PRODID:-//Plone.org//NONSGML plone.app.event//EN
X-WR-TIMEZONE:America/Sao_Paulo
BEGIN:VEVENT
SUMMARY:Troca de Gestão Mult em [ Auditorio Nobre do CAD 1]
DTSTART;TZID=America/Sao_Paulo;VALUE=DATE-TIME:20220715T173000
DTEND;TZID=America/Sao_Paulo;VALUE=DATE-TIME:20220715T210000
DTSTAMP;VALUE=DATE-TIME:20260422T044623Z
UID:6b5dc365eb2d437c946cbfd3cf47e0e5@150.164.76.86:8080
CREATED;VALUE=DATE-TIME:20220627T175417Z
DESCRIPTION:O evento será uma solenidade para o encerramento da gestão d
 a nossa empresa junior. Vamos precisar de microfone\, projetor e cabos par
 a conectar o projetor ao nosso notebook.
LAST-MODIFIED;VALUE=DATE-TIME:20220629T135500Z
URL:http://150.164.76.86:8080/cac/agenda/3091223685041558450
END:VEVENT
BEGIN:VTIMEZONE
TZID:America/Sao_Paulo
X-LIC-LOCATION:America/Sao_Paulo
BEGIN:STANDARD
DTSTART;VALUE=DATE-TIME:20220219T230000
TZNAME:BRT
TZOFFSETFROM:-0200
TZOFFSETTO:-0300
END:STANDARD
END:VTIMEZONE
END:VCALENDAR
