BEGIN:VCALENDAR
VERSION:2.0
PRODID:-//Plone.org//NONSGML plone.app.event//EN
X-WR-TIMEZONE:America/Sao_Paulo
BEGIN:VEVENT
SUMMARY:Colação de Grau solene do curso Letras-Libras em [ Auditorio da 
 Reitoria]
DTSTART;TZID=America/Sao_Paulo;VALUE=DATE-TIME:20241101T180000
DTEND;TZID=America/Sao_Paulo;VALUE=DATE-TIME:20241101T210000
DTSTAMP;VALUE=DATE-TIME:20260419T163453Z
UID:3990a87bcee4482e943bcb75528a150c@150.164.76.86:8080
CREATED;VALUE=DATE-TIME:20240612T205119Z
DESCRIPTION:<p>Colação de grau solene do curso de Letras-Libras</p>
LAST-MODIFIED;VALUE=DATE-TIME:20241009T131716Z
URL:http://150.164.76.86:8080/cac/agenda/3090413412284584448
END:VEVENT
BEGIN:VTIMEZONE
TZID:America/Sao_Paulo
X-LIC-LOCATION:America/Sao_Paulo
BEGIN:DAYLIGHT
DTSTART;VALUE=DATE-TIME:20241020T010000
TZNAME:BRST
TZOFFSETFROM:-0300
TZOFFSETTO:-0200
END:DAYLIGHT
END:VTIMEZONE
END:VCALENDAR
