BEGIN:VCALENDAR
VERSION:2.0
PRODID:-//Plone.org//NONSGML plone.app.event//EN
X-WR-TIMEZONE:America/Sao_Paulo
BEGIN:VEVENT
SUMMARY:Encontro Nacional do PRH-ANP/2024 em [ Outros espacos]
DTSTART;TZID=America/Sao_Paulo;VALUE=DATE-TIME:20240521T090000
DTEND;TZID=America/Sao_Paulo;VALUE=DATE-TIME:20240521T110000
DTSTAMP;VALUE=DATE-TIME:20260420T031819Z
UID:0d3c928a5eb14cd286d0d3ad173924ea@150.164.76.86:8080
CREATED;VALUE=DATE-TIME:20240515T190910Z
DESCRIPTION:<p><span style="text-align: left\; text-decoration-thickness: 
 initial\; text-decoration-style: initial\; text-decoration-color: initial\
 ; float: none\; ">Encontro Nacional do PRH-ANP/2024 - Reitoria</span></p>
LAST-MODIFIED;VALUE=DATE-TIME:20240515T190935Z
URL:http://150.164.76.86:8080/cac/agenda/3068745472822358559
END:VEVENT
BEGIN:VTIMEZONE
TZID:America/Sao_Paulo
X-LIC-LOCATION:America/Sao_Paulo
BEGIN:STANDARD
DTSTART;VALUE=DATE-TIME:20240217T230000
TZNAME:BRT
TZOFFSETFROM:-0200
TZOFFSETTO:-0300
END:STANDARD
END:VTIMEZONE
END:VCALENDAR
