BEGIN:VCALENDAR
VERSION:2.0
PRODID:-//Plone.org//NONSGML plone.app.event//EN
X-WR-TIMEZONE:America/Sao_Paulo
BEGIN:VEVENT
SUMMARY:SSBS 2023 - UFMG Summer School on Brazilian Studies em [ Outros es
 pacos]
DTSTART;TZID=America/Sao_Paulo;VALUE=DATE-TIME:20230721T160000
DTEND;TZID=America/Sao_Paulo;VALUE=DATE-TIME:20230721T180000
DTSTAMP;VALUE=DATE-TIME:20260421T104054Z
UID:d545f28d1265432cb58960179851d762@150.164.76.86:8080
CREATED;VALUE=DATE-TIME:20230719T133919Z
DESCRIPTION:<p>Solicita reserva da arena da praça de serviços para ativi
 dade cultural com os alunos do curso Summer School on Brazilian Studies UF
 MG 2023. Será um aulão de dança.</p>
LAST-MODIFIED;VALUE=DATE-TIME:20230719T153805Z
URL:http://150.164.76.86:8080/cac/agenda/3060307710057501150
END:VEVENT
BEGIN:VTIMEZONE
TZID:America/Sao_Paulo
X-LIC-LOCATION:America/Sao_Paulo
BEGIN:STANDARD
DTSTART;VALUE=DATE-TIME:20230225T230000
TZNAME:BRT
TZOFFSETFROM:-0200
TZOFFSETTO:-0300
END:STANDARD
END:VTIMEZONE
END:VCALENDAR
