BEGIN:VCALENDAR
VERSION:2.0
PRODID:-//Plone.org//NONSGML plone.app.event//EN
X-WR-TIMEZONE:America/Sao_Paulo
BEGIN:VEVENT
SUMMARY:Seminário Fhemig - tema a definir em [ Outros espacos]
DTSTART;TZID=America/Sao_Paulo;VALUE=DATE-TIME:20231122T140000
DTEND;TZID=America/Sao_Paulo;VALUE=DATE-TIME:20231122T160000
DTSTAMP;VALUE=DATE-TIME:20260420T130745Z
UID:265e5e1a1e994a7b95015fd5f201899d@150.164.76.86:8080
CREATED;VALUE=DATE-TIME:20231002T120349Z
DESCRIPTION:Apoio habitual de eventos on-line
LAST-MODIFIED;VALUE=DATE-TIME:20231003T145418Z
URL:http://150.164.76.86:8080/cac/agenda/3057721226464463751
END:VEVENT
BEGIN:VTIMEZONE
TZID:America/Sao_Paulo
X-LIC-LOCATION:America/Sao_Paulo
BEGIN:DAYLIGHT
DTSTART;VALUE=DATE-TIME:20231015T010000
TZNAME:BRST
TZOFFSETFROM:-0300
TZOFFSETTO:-0200
END:DAYLIGHT
END:VTIMEZONE
END:VCALENDAR
