BEGIN:VCALENDAR
VERSION:2.0
PRODID:-//Plone.org//NONSGML plone.app.event//EN
X-WR-TIMEZONE:America/Sao_Paulo
BEGIN:VEVENT
SUMMARY:Fundep X em [ Auditorio A104 do Cad 2]
DTSTART;TZID=America/Sao_Paulo;VALUE=DATE-TIME:20211217T140000
DTEND;TZID=America/Sao_Paulo;VALUE=DATE-TIME:20211217T170000
DTSTAMP;VALUE=DATE-TIME:20260422T142752Z
UID:37af4084e3f54b039ae8db5d2d8bd037@150.164.76.86:8080
CREATED;VALUE=DATE-TIME:20211111T173539Z
DESCRIPTION:<p>Reunião da Fundep com os seus colaboradores\, para apresen
 tação de resultados de 2021.</p>
LAST-MODIFIED;VALUE=DATE-TIME:20211130T191539Z
URL:http://150.164.76.86:8080/cac/agenda/3028368463812125676
END:VEVENT
BEGIN:VTIMEZONE
TZID:America/Sao_Paulo
X-LIC-LOCATION:America/Sao_Paulo
BEGIN:DAYLIGHT
DTSTART;VALUE=DATE-TIME:20211017T010000
TZNAME:BRST
TZOFFSETFROM:-0300
TZOFFSETTO:-0200
END:DAYLIGHT
END:VTIMEZONE
END:VCALENDAR
