BEGIN:VCALENDAR
VERSION:2.0
PRODID:-//Plone.org//NONSGML plone.app.event//EN
X-WR-TIMEZONE:America/Sao_Paulo
BEGIN:VEVENT
SUMMARY:Semana do hip-hop: Conexão universidade e periferia em [ Arena da
  praça de serviços]
DTSTART;TZID=America/Sao_Paulo;VALUE=DATE-TIME:20241003T190000
DTEND;TZID=America/Sao_Paulo;VALUE=DATE-TIME:20241003T230000
DTSTAMP;VALUE=DATE-TIME:20260419T192106Z
UID:0ae5df53a60847e68d59cdeff1b7e921@150.164.76.86:8080
CREATED;VALUE=DATE-TIME:20240903T200159Z
DESCRIPTION:<p>O evento a ser realizado no dia 03/10/2024\, na praça de s
 erviços consta como uma das atividades previstas no projeto aprovado pela
  chamada PRAE de apoio a projeto estudantil\, intutulado enquanto Semana d
 o hip-hop: conexão universidade e periferia. O evento dessa data consta e
 nquanto uma batalha de Mc´s \, que contará com artistas tanto fora da un
 iversidade quanto de dentro. A batalha está prevista de começar ás 19:0
 0 e terminar ás 23:00\, que precisrá para sua realização de uma caixa 
 de som e microfones para que seja realizadda a batalha\, onde caso a insit
 uição não consiga estes matériais ele será providenciado de forma ide
 pendente\, será necesario caso posivel a presença da equipe comum da pre
 ça de serviços\, como segurança e agentes de limpeza.</p>
LAST-MODIFIED;VALUE=DATE-TIME:20240904T164950Z
URL:http://150.164.76.86:8080/cac/agenda/3017739798844927697
END:VEVENT
BEGIN:VTIMEZONE
TZID:America/Sao_Paulo
X-LIC-LOCATION:America/Sao_Paulo
BEGIN:STANDARD
DTSTART;VALUE=DATE-TIME:20240217T230000
TZNAME:BRT
TZOFFSETFROM:-0200
TZOFFSETTO:-0300
END:STANDARD
END:VTIMEZONE
END:VCALENDAR
