BEGIN:VCALENDAR
VERSION:2.0
PRODID:-//Plone.org//NONSGML plone.app.event//EN
X-WR-TIMEZONE:America/Sao_Paulo
BEGIN:VEVENT
SUMMARY:ASSEMBLEIA em [ Outros espacos]
DTSTART;TZID=America/Sao_Paulo;VALUE=DATE-TIME:20220517T090000
DTEND;TZID=America/Sao_Paulo;VALUE=DATE-TIME:20220517T130000
DTSTAMP;VALUE=DATE-TIME:20260422T081428Z
UID:082a41f246ce42578181de339e767c31@150.164.76.86:8080
CREATED;VALUE=DATE-TIME:20220511T171313Z
DESCRIPTION:Prezados\,\n\nReferente: Reserva SINDIFES\nEvento: ASSEMBLEIA\
 nData: 17/05/2022 \nLocal/auditório: AUDITORIO DA REITORIA\nHorário: 09H
 30 \n\nSolicitações de infraestrutura para o auditório:\nRecursos neces
 sários:\n- 03 microfones sem fio para a mesa\n- 01 microfone com tripé p
 ara a plateia\n- Data show / notebook\n- Senha para internet wi-fi\n- 01 M
 esa grande para servir o lanche (corredor)\n- 02 mesas (tipo estudante) co
 m 02 cadeiras para credenciamento e recepção do evento\n- 02 tripés de 
 banner\n- Vamos precisar de 01 cabo de áudio da mesa de som para filmar a
  assembleia\n\nSolicitamos ainda que nos informe se será necessário leva
 rmos material de higiene: papel hig. / papel toalha / sabonete líquido.\n
 \n\nFicaremos no aguardo de confirmação se será possível a providênci
 a dos itens acima.\n\n\n\nAtt.\nClaudinéia\nSecretaria
LAST-MODIFIED;VALUE=DATE-TIME:20220512T211240Z
URL:http://150.164.76.86:8080/cac/agenda/2989334344338647146
END:VEVENT
BEGIN:VTIMEZONE
TZID:America/Sao_Paulo
X-LIC-LOCATION:America/Sao_Paulo
BEGIN:STANDARD
DTSTART;VALUE=DATE-TIME:20220219T230000
TZNAME:BRT
TZOFFSETFROM:-0200
TZOFFSETTO:-0300
END:STANDARD
END:VTIMEZONE
END:VCALENDAR
