BEGIN:VCALENDAR
VERSION:2.0
PRODID:-//Plone.org//NONSGML plone.app.event//EN
X-WR-TIMEZONE:America/Sao_Paulo
BEGIN:VEVENT
SUMMARY:Encontro de despedida com os Estudantes Internacionais da UFMG em 
 [ Gramado da Reitoria]
DTSTART;TZID=America/Sao_Paulo;VALUE=DATE-TIME:20230710T160000
DTEND;TZID=America/Sao_Paulo;VALUE=DATE-TIME:20230710T180000
DTSTAMP;VALUE=DATE-TIME:20260421T110408Z
UID:7341aeac849e4afeb4b54b2c267c8171@150.164.76.86:8080
CREATED;VALUE=DATE-TIME:20230707T125243Z
DESCRIPTION:Reserva do Gramando da Reitoria para realizarmos um piquenique
  de despedida com os Estudantes Internacionais e brasileiros da UFMG 2023/
 1.\nFaremos uma roda de conversa e bate papo com lanches compartilhados.
LAST-MODIFIED;VALUE=DATE-TIME:20230707T134851Z
URL:http://150.164.76.86:8080/cac/agenda/2983424512142564295
END:VEVENT
BEGIN:VTIMEZONE
TZID:America/Sao_Paulo
X-LIC-LOCATION:America/Sao_Paulo
BEGIN:STANDARD
DTSTART;VALUE=DATE-TIME:20230225T230000
TZNAME:BRT
TZOFFSETFROM:-0200
TZOFFSETTO:-0300
END:STANDARD
END:VTIMEZONE
END:VCALENDAR
