BEGIN:VCALENDAR
VERSION:2.0
PRODID:-//Plone.org//NONSGML plone.app.event//EN
X-WR-TIMEZONE:America/Sao_Paulo
BEGIN:VEVENT
SUMMARY:III Seminário Práticas Docentes Vivenciadas nas Licenciaturas da
  UFMG em [ Auditorio Nobre do CAD 1]
DTSTART;TZID=America/Sao_Paulo;VALUE=DATE-TIME:20230602T140000
DTEND;TZID=America/Sao_Paulo;VALUE=DATE-TIME:20230602T210000
DTSTAMP;VALUE=DATE-TIME:20260421T103053Z
UID:06635a0cfbad4ff2ab16b972db8a8eb4@150.164.76.86:8080
CREATED;VALUE=DATE-TIME:20230404T235643Z
DESCRIPTION:<p>III Seminário Práticas Docentes Vivenciadas nas Licenciat
 uras da UFMG - encerramento</p>
LAST-MODIFIED;VALUE=DATE-TIME:20230414T134722Z
URL:http://150.164.76.86:8080/cac/agenda/2981972555162498126
END:VEVENT
BEGIN:VTIMEZONE
TZID:America/Sao_Paulo
X-LIC-LOCATION:America/Sao_Paulo
BEGIN:STANDARD
DTSTART;VALUE=DATE-TIME:20230225T230000
TZNAME:BRT
TZOFFSETFROM:-0200
TZOFFSETTO:-0300
END:STANDARD
END:VTIMEZONE
END:VCALENDAR
