BEGIN:VCALENDAR
VERSION:2.0
PRODID:-//Plone.org//NONSGML plone.app.event//EN
X-WR-TIMEZONE:America/Sao_Paulo
BEGIN:VEVENT
SUMMARY:Cerimônia de premiação das olimpíadas de Química 2020 em [ Au
 ditorio Nobre do CAD 1]
DTSTART;TZID=America/Sao_Paulo;VALUE=DATE-TIME:20201211T140000
DTEND;TZID=America/Sao_Paulo;VALUE=DATE-TIME:20201211T170000
DTSTAMP;VALUE=DATE-TIME:20260424T150044Z
UID:0259759651dc4c56a64d28f6b2bc2906@150.164.76.86:8080
CREATED;VALUE=DATE-TIME:20200106T143020Z
DESCRIPTION:Precisaremos ter disponível sistema de projeção e microfone
  para realização da cerimônia
LAST-MODIFIED;VALUE=DATE-TIME:20200107T173616Z
URL:http://150.164.76.86:8080/cac/agenda/2971092332016672334
END:VEVENT
BEGIN:VTIMEZONE
TZID:America/Sao_Paulo
X-LIC-LOCATION:America/Sao_Paulo
BEGIN:DAYLIGHT
DTSTART;VALUE=DATE-TIME:20201018T010000
TZNAME:BRST
TZOFFSETFROM:-0300
TZOFFSETTO:-0200
END:DAYLIGHT
END:VTIMEZONE
END:VCALENDAR
