BEGIN:VCALENDAR
VERSION:2.0
PRODID:-//Plone.org//NONSGML plone.app.event//EN
X-WR-TIMEZONE:America/Sao_Paulo
BEGIN:VEVENT
SUMMARY:Proficiência em língua estrangeira para os estudantes do 1º ano
  do COLTEC em [ Auditorio A102 do Cad 2]
DTSTART;TZID=America/Sao_Paulo;VALUE=DATE-TIME:20240202T130000
DTEND;TZID=America/Sao_Paulo;VALUE=DATE-TIME:20240202T170000
DTSTAMP;VALUE=DATE-TIME:20260420T063115Z
UID:d0ed3981b7724f31a350fe7c25e0733c@150.164.76.86:8080
CREATED;VALUE=DATE-TIME:20231130T170930Z
DESCRIPTION:Exame de proficiência em Língua Inglesa para os ingressantes
  nas Turmas do 1º ano do Colégio Técnico em 2024.
LAST-MODIFIED;VALUE=DATE-TIME:20231205T155027Z
URL:http://150.164.76.86:8080/cac/agenda/2971091854009302040
END:VEVENT
BEGIN:VTIMEZONE
TZID:America/Sao_Paulo
X-LIC-LOCATION:America/Sao_Paulo
BEGIN:DAYLIGHT
DTSTART;VALUE=DATE-TIME:20231015T010000
TZNAME:BRST
TZOFFSETFROM:-0300
TZOFFSETTO:-0200
END:DAYLIGHT
END:VTIMEZONE
END:VCALENDAR
